BEGIN:VCALENDAR
VERSION:2.0
PRODID:-//Halo Foundation - ECPv6.15.17//NONSGML v1.0//EN
CALSCALE:GREGORIAN
METHOD:PUBLISH
X-ORIGINAL-URL:https://foundationhalo.org
X-WR-CALDESC:Events for Halo Foundation
REFRESH-INTERVAL;VALUE=DURATION:PT1H
X-Robots-Tag:noindex
X-PUBLISHED-TTL:PT1H
BEGIN:VTIMEZONE
TZID:America/Antigua
BEGIN:STANDARD
TZOFFSETFROM:-0400
TZOFFSETTO:-0400
TZNAME:AST
DTSTART:20190101T000000
END:STANDARD
END:VTIMEZONE
BEGIN:VEVENT
DTSTART;TZID=America/Antigua:20200307T183000
DTEND;TZID=America/Antigua:20200307T213000
DTSTAMP:20260423T080505
CREATED:20200229T195456Z
LAST-MODIFIED:20200229T195456Z
UID:7524-1583605800-1583616600@foundationhalo.org
SUMMARY:Lions Club presents Wine Tasting and Tapas
DESCRIPTION:Lions Club of Antigua presents Wine Tasting and Tapas Event\nSaturday 7th March 2020\n6:30pm to 9:30pm\nAntigua Athletics Club
URL:https://foundationhalo.org/event/lions-club-presents-wine-tasting-and-tapas/
LOCATION:Antigua Athletic Club\, Coolide\, St. John's\, Antigua and Barbuda
CATEGORIES:Other Charity Events
ATTACH;FMTTYPE=image/jpeg:https://foundationhalo.org/wp-content/uploads/2020/02/WhatsApp-Image-2020-02-26-at-8.55.59-AM.jpeg
END:VEVENT
BEGIN:VEVENT
DTSTART;TZID=America/Antigua:20200328T100000
DTEND;TZID=America/Antigua:20200328T180000
DTSTAMP:20260423T080505
CREATED:20200205T051858Z
LAST-MODIFIED:20200206T143441Z
UID:7456-1585389600-1585418400@foundationhalo.org
SUMMARY:Antigua Barbuda Horticultural Society presents the 2020 Flower and Garden Show
DESCRIPTION:You are invited to the 2020 and 10th Anniversary Flower and Garden Show. Saturday March 28th at Agave Gardens\, Friars Hill Road\, Time: 10 am to 6pm. Come Celebrate Flowers\, Fruit and Vegetable Competition\, Hort Cafe\, Crafts and more! View flyer for more details:
URL:https://foundationhalo.org/event/2020-flower-and-garden-show/
LOCATION:Agave Gardens\, Antigua and Barbuda
CATEGORIES:Other Charity Events
ATTACH;FMTTYPE=image/png:https://foundationhalo.org/wp-content/uploads/2020/02/2020flowergarden-show1-page-0.png
END:VEVENT
END:VCALENDAR