BEGIN:VCALENDAR
VERSION:2.0
PRODID:-//Halo Foundation - ECPv6.15.17//NONSGML v1.0//EN
CALSCALE:GREGORIAN
METHOD:PUBLISH
X-ORIGINAL-URL:https://foundationhalo.org
X-WR-CALDESC:Events for Halo Foundation
REFRESH-INTERVAL;VALUE=DURATION:PT1H
X-Robots-Tag:noindex
X-PUBLISHED-TTL:PT1H
BEGIN:VTIMEZONE
TZID:UTC
BEGIN:STANDARD
TZOFFSETFROM:+0000
TZOFFSETTO:+0000
TZNAME:UTC
DTSTART:20180101T000000
END:STANDARD
END:VTIMEZONE
BEGIN:VEVENT
DTSTART;TZID=UTC:20190831T183000
DTEND;TZID=UTC:20190831T210000
DTSTAMP:20260423T191005
CREATED:20190820T140842Z
LAST-MODIFIED:20200206T145207Z
UID:7093-1567276200-1567285200@foundationhalo.org
SUMMARY:The St. John Hospice presents Wine Tasting
DESCRIPTION:Support this wine tasting evening at Government House \, in aid of the St. John Hospice …
URL:https://foundationhalo.org/event/wine-tasting/
CATEGORIES:Other Charity Events
ATTACH;FMTTYPE=image/jpeg:https://foundationhalo.org/wp-content/uploads/2019/08/15038398-80C1-4623-BB33-9E08FE23175B.jpeg
END:VEVENT
END:VCALENDAR