BEGIN:VCALENDAR
VERSION:2.0
PRODID:-//Halo Foundation - ECPv6.15.17//NONSGML v1.0//EN
CALSCALE:GREGORIAN
METHOD:PUBLISH
X-ORIGINAL-URL:https://foundationhalo.org
X-WR-CALDESC:Events for Halo Foundation
REFRESH-INTERVAL;VALUE=DURATION:PT1H
X-Robots-Tag:noindex
X-PUBLISHED-TTL:PT1H
BEGIN:VTIMEZONE
TZID:UTC
BEGIN:STANDARD
TZOFFSETFROM:+0000
TZOFFSETTO:+0000
TZNAME:UTC
DTSTART:20180101T000000
END:STANDARD
END:VTIMEZONE
BEGIN:VEVENT
DTSTART;TZID=UTC:20190710T193000
DTEND;TZID=UTC:20190710T220000
DTSTAMP:20260424T090620
CREATED:20190704T200507Z
LAST-MODIFIED:20190704T200507Z
UID:7013-1562787000-1562796000@foundationhalo.org
SUMMARY:Musical Lecture
DESCRIPTION:
URL:https://foundationhalo.org/event/musical-lecture/
LOCATION:American University of Antigua – AUA
CATEGORIES:Other Charity Events
ATTACH;FMTTYPE=image/jpeg:https://foundationhalo.org/wp-content/uploads/2019/07/IMG-20190704-WA0005.jpg
END:VEVENT
BEGIN:VEVENT
DTSTART;TZID=UTC:20190714T180000
DTEND;TZID=UTC:20190714T220000
DTSTAMP:20260424T090620
CREATED:20190703T183630Z
LAST-MODIFIED:20190706T175329Z
UID:6988-1563127200-1563141600@foundationhalo.org
SUMMARY:Celebrating the Commonwealth at 70
DESCRIPTION: 
URL:https://foundationhalo.org/event/celebrating-the-commonwealth-at-70/
LOCATION:Dean William Lake Cultural Center
CATEGORIES:Other Charity Events
ATTACH;FMTTYPE=image/jpeg:https://foundationhalo.org/wp-content/uploads/2019/07/event-previos.jpg
END:VEVENT
BEGIN:VEVENT
DTSTART;TZID=UTC:20190720T200000
DTEND;TZID=UTC:20190720T233000
DTSTAMP:20260424T090620
CREATED:20190521T184240Z
LAST-MODIFIED:20190521T184622Z
UID:6875-1563652800-1563665400@foundationhalo.org
SUMMARY:Colours - The Venetian Masquerade
DESCRIPTION:Rotary Club of Antigua presents “COLOURS” The Venetian Masquerade \nSave the date: Saturday July 20th 2019 \nAll Proceeds go toward the Rotary Club of Antigua Community Projects \n 
URL:https://foundationhalo.org/event/colours/
CATEGORIES:Other Charity Events
ATTACH;FMTTYPE=image/jpeg:https://foundationhalo.org/wp-content/uploads/2019/05/58616588_2601084183249428_1849180924999106560_o.jpg
END:VEVENT
END:VCALENDAR